BEGIN:VCALENDAR
VERSION:2.0
PRODID:-//Evidence and Answers - ECPv6.15.20//NONSGML v1.0//EN
CALSCALE:GREGORIAN
METHOD:PUBLISH
X-WR-CALNAME:Evidence and Answers
X-ORIGINAL-URL:https://evidenceandanswers.org
X-WR-CALDESC:Events for Evidence and Answers
REFRESH-INTERVAL;VALUE=DURATION:PT1H
X-Robots-Tag:noindex
X-PUBLISHED-TTL:PT1H
BEGIN:VTIMEZONE
TZID:Pacific/Honolulu
BEGIN:STANDARD
TZOFFSETFROM:-1000
TZOFFSETTO:-1000
TZNAME:HST
DTSTART:20210101T000000
END:STANDARD
END:VTIMEZONE
BEGIN:VTIMEZONE
TZID:Asia/Manila
BEGIN:STANDARD
TZOFFSETFROM:+0800
TZOFFSETTO:+0800
TZNAME:PST
DTSTART:20210101T000000
END:STANDARD
END:VTIMEZONE
BEGIN:VEVENT
DTSTART;TZID=Pacific/Honolulu:20231031T120000
DTEND;TZID=Pacific/Honolulu:20231111T115959
DTSTAMP:20260425T003831
CREATED:20231016T140347Z
LAST-MODIFIED:20231016T141907Z
UID:14358-1698753600-1699703999@evidenceandanswers.org
SUMMARY:Word of Life Bible Institute
DESCRIPTION:More info coming soon!
URL:https://evidenceandanswers.org/event/word-of-life-bible-institute-2/
LOCATION:Laguna\, Philippines
CATEGORIES:Conference
END:VEVENT
BEGIN:VEVENT
DTSTART;TZID=Asia/Manila:20231029T140000
DTEND;TZID=Asia/Manila:20231029T170000
DTSTAMP:20260425T003831
CREATED:20231018T043912Z
LAST-MODIFIED:20231018T044127Z
UID:14385-1698588000-1698598800@evidenceandanswers.org
SUMMARY:Youth Leaders Huddle
DESCRIPTION:Pat will be speaking to youth leaders from several churches in Las Pinas City\, south of Manila\, Philippines.
URL:https://evidenceandanswers.org/event/youth-leaders-huddle/
LOCATION:Vista Mall\, Las Pinas\, Las Pinas\, Las Pinas\, Philippines
END:VEVENT
BEGIN:VEVENT
DTSTART;VALUE=DATE:20230930
DTEND;VALUE=DATE:20231002
DTSTAMP:20260425T003831
CREATED:20230604T201216Z
LAST-MODIFIED:20230606T021639Z
UID:13161-1696075200-1696161599@evidenceandanswers.org
SUMMARY:Evidence and Answers banquet
DESCRIPTION:
URL:https://evidenceandanswers.org/event/evidence-and-answers-banquet-09302023/
LOCATION:Honolulu\, HI
CATEGORIES:Conference
END:VEVENT
BEGIN:VEVENT
DTSTART;TZID=Pacific/Honolulu:20230722T080000
DTEND;TZID=Pacific/Honolulu:20230722T170000
DTSTAMP:20260425T003831
CREATED:20230105T001550Z
LAST-MODIFIED:20230606T021718Z
UID:12447-1690012800-1690045200@evidenceandanswers.org
SUMMARY:AGLOW Los Angeles
DESCRIPTION:
URL:https://evidenceandanswers.org/event/aglow-los-angeles-07222023/
LOCATION:AGLOW Los Angeles\, 3285 Lake Ave\, Altadena\, CA\, 91001\, United States
CATEGORIES:Guest Speaking Engagement
END:VEVENT
BEGIN:VEVENT
DTSTART;VALUE=DATE:20230717
DTEND;VALUE=DATE:20230720
DTSTAMP:20260425T003831
CREATED:20230523T002526Z
LAST-MODIFIED:20230523T002526Z
UID:13062-1689595200-1689767999@evidenceandanswers.org
SUMMARY:Gardena Valley Baptist Church
DESCRIPTION:Guest Speaking at Gardena Valley Baptist Church in Gardena\, California
URL:https://evidenceandanswers.org/event/gardena-valley-baptist-church-2/
CATEGORIES:Guest Speaking Engagement
END:VEVENT
BEGIN:VEVENT
DTSTART;TZID=Pacific/Honolulu:20230709T100000
DTEND;TZID=Pacific/Honolulu:20230709T110000
DTSTAMP:20260425T003831
CREATED:20230604T200350Z
LAST-MODIFIED:20230604T200350Z
UID:13151-1688896800-1688900400@evidenceandanswers.org
SUMMARY:Sunday Service
DESCRIPTION:
URL:https://evidenceandanswers.org/event/sunday-service-07092023/
LOCATION:East Sarang Community Church\, 5540 Schaefer Ave\, Chino\, CA\, 91710\, United States
CATEGORIES:Sunday Service
END:VEVENT
BEGIN:VEVENT
DTSTART;VALUE=DATE:20230705
DTEND;VALUE=DATE:20230911
DTSTAMP:20260425T003831
CREATED:20230523T002324Z
LAST-MODIFIED:20230523T002324Z
UID:13060-1688558400-1694347199@evidenceandanswers.org
SUMMARY:Dong Shin Presbyterian Retreat
DESCRIPTION:Guest speaking during Youth Retreat in Los Angelos California
URL:https://evidenceandanswers.org/event/dong-shin-presbyterian-retreat/
END:VEVENT
BEGIN:VEVENT
DTSTART;VALUE=DATE:20230623
DTEND;VALUE=DATE:20230626
DTSTAMP:20260425T003831
CREATED:20230523T001715Z
LAST-MODIFIED:20230523T001858Z
UID:13057-1687521600-1687694399@evidenceandanswers.org
SUMMARY:2023 College Prep Conference
DESCRIPTION:College Prep Conference. For ticket and more information visit the link below \n \nhttps://evidenceandanswers.org/collegeprepconference/
URL:https://evidenceandanswers.org/event/preparing-for-college/
END:VEVENT
BEGIN:VEVENT
DTSTART;TZID=Pacific/Honolulu:20230604T100000
DTEND;TZID=Pacific/Honolulu:20230625T110000
DTSTAMP:20260425T003831
CREATED:20230523T000844Z
LAST-MODIFIED:20230523T002013Z
UID:13055-1685872800-1687690800@evidenceandanswers.org
SUMMARY:The End Times Series
DESCRIPTION:Guest Speaking at Mililani Community Church during church service. June 4\, 11\, 18\, 25. Service starts at 10am
URL:https://evidenceandanswers.org/event/the-end-times-series/
LOCATION:Mililani Community Church\, 95-1150 Kaapeha Street\, Mililani\, HI\, 96789\, United States
CATEGORIES:Guest Speaking Engagement
END:VEVENT
BEGIN:VEVENT
DTSTART;VALUE=DATE:20230428
DTEND;VALUE=DATE:20230502
DTSTAMP:20260425T003831
CREATED:20230105T000905Z
LAST-MODIFIED:20230105T000905Z
UID:12445-1682683200-1682942399@evidenceandanswers.org
SUMMARY:Door of Faith - Apologetics Conference
DESCRIPTION:Pat will be doing an apologetics series beginning Friday night\, then Saturday\, then concluding Sunday morning.
URL:https://evidenceandanswers.org/event/door-of-faith-apologetics-conference/
END:VEVENT
BEGIN:VEVENT
DTSTART;TZID=Pacific/Honolulu:20230403T090000
DTEND;TZID=Pacific/Honolulu:20230403T123000
DTSTAMP:20260425T003831
CREATED:20221220T015246Z
LAST-MODIFIED:20221220T015246Z
UID:12412-1680512400-1680525000@evidenceandanswers.org
SUMMARY:Preparing for College Seminar
DESCRIPTION:Pat will be speaking at a seminar “Preparing for college.” Nearly 80% of young people who profess faith in Christ\, abandon their faith after 4 years of college. This seminar prepares Christian teens for the intellectual and spiritual challenges they will face on the university campus.
URL:https://evidenceandanswers.org/event/preparing-for-college-seminar/
END:VEVENT
BEGIN:VEVENT
DTSTART;TZID=Pacific/Honolulu:20230402T100000
DTEND;TZID=Pacific/Honolulu:20230402T110000
DTSTAMP:20260425T003831
CREATED:20221220T015457Z
LAST-MODIFIED:20221220T015457Z
UID:12414-1680429600-1680433200@evidenceandanswers.org
SUMMARY:Calvary Chapel Windward
DESCRIPTION:Pat will be preaching the Sunday message at Calvary Chapel Windward.
URL:https://evidenceandanswers.org/event/calvary-chapel-windward-2/
END:VEVENT
BEGIN:VEVENT
DTSTART;VALUE=DATE:20230319
DTEND;VALUE=DATE:20230331
DTSTAMP:20260425T003831
CREATED:20221114T003531Z
LAST-MODIFIED:20221129T083305Z
UID:12169-1679227200-1680177599@evidenceandanswers.org
SUMMARY:The Japan Christian Tour
DESCRIPTION:The $300 initial deposit is due by 12/15/22 to reserve your place on the tour. Deposit will be applied to the overall cost of $3\,800. To pay deposit visit our Japan Christian Tour Page below. \nhttp://Evidenceandanswers.org/the-japan-tour
URL:https://evidenceandanswers.org/event/the-japan-christian-tour/
CATEGORIES:Tour
END:VEVENT
BEGIN:VEVENT
DTSTART;VALUE=DATE:20230314
DTEND;VALUE=DATE:20230318
DTSTAMP:20260425T003831
CREATED:20221220T014654Z
LAST-MODIFIED:20221220T014654Z
UID:12408-1678795200-1679054399@evidenceandanswers.org
SUMMARY:Kanakuk Institute
DESCRIPTION:Pat will be teaching apologetics at the Kanakuk Institute in Branson\, MO.
URL:https://evidenceandanswers.org/event/kanakuk-institute-2/
END:VEVENT
BEGIN:VEVENT
DTSTART;TZID=Pacific/Honolulu:20230226T103000
DTEND;TZID=Pacific/Honolulu:20230226T120000
DTSTAMP:20260425T003831
CREATED:20221208T223700Z
LAST-MODIFIED:20221208T223700Z
UID:12367-1677407400-1677412800@evidenceandanswers.org
SUMMARY:Honolulu Christian Church
DESCRIPTION:Dr. Hugh Ross from Reasons to Believe will be preaching the Sunday message on Faith and Science.
URL:https://evidenceandanswers.org/event/honolulu-christian-church-7/
END:VEVENT
BEGIN:VEVENT
DTSTART;VALUE=DATE:20230224
DTEND;VALUE=DATE:20230227
DTSTAMP:20260425T003831
CREATED:20221204T025324Z
LAST-MODIFIED:20230117T012114Z
UID:12343-1677240000-1677412799@evidenceandanswers.org
SUMMARY:Christianity and Science Conference
DESCRIPTION:This conference is for Adults\, Young Adults\, Students & Youth. \n  \nFriday February 24th: \n5:30pm – Registration & Dinner \n6:00pm – Welcome\, Worship & Dr. Richard Howe “Evidence of God” \n7:15pm – Dr. Hugh Ross “Cosmic Reasons to Believe in Christ” \n8:30pm – Dr. Patrick Zukeran ” The Creator Incarnate” \n9:00pm – Q&A Session \n  \nSaturday February 25th: \n12:00pm – Registration & light snacks \n1:00pm – Welcome\, Worship & Discussion Panel “Age of the Earth” \n2:30pm – Workshops \n3:30pm – Dr. Richard Howe ” Is Science the Measure of Truth?” \n4:45pm – Dr. Hugh Ross “Why the Universe is the Way it is” \n5:45pm – Q&A Session \n  \n  \nClick the link below to register. \nhttps://www.paypal.com/donate/?hosted_button_id=M6PALZYGJ6Y8L \n 
URL:https://evidenceandanswers.org/event/christianity-and-science-conference/
LOCATION:Grace fellowship Hawaii\, 94-1323 Waipio Uka Street\, Waipahu\, HI\, 96797\, United States
END:VEVENT
BEGIN:VEVENT
DTSTART;TZID=Pacific/Honolulu:20230223T180000
DTEND;TZID=Pacific/Honolulu:20230223T210000
DTSTAMP:20260425T003831
CREATED:20230114T014100Z
LAST-MODIFIED:20230114T014940Z
UID:12481-1677175200-1677186000@evidenceandanswers.org
SUMMARY:Cosmic Reasons For God (UH Campus)
DESCRIPTION:RSVP for this spectacular event! Pizza will be served 6-7pm
URL:https://evidenceandanswers.org/event/cosmic-reasons-for-god-uh-campus/
LOCATION:University of Manoa
END:VEVENT
BEGIN:VEVENT
DTSTART;TZID=Pacific/Honolulu:20230219T103000
DTEND;TZID=Pacific/Honolulu:20230219T120000
DTSTAMP:20260425T003831
CREATED:20221208T223540Z
LAST-MODIFIED:20221208T223540Z
UID:12365-1676802600-1676808000@evidenceandanswers.org
SUMMARY:Honolulu Christian Church
DESCRIPTION:Dr. Evan Kawamura will be giving the Sunday message on Faith and Science at the Honolulu Christian Church
URL:https://evidenceandanswers.org/event/honolulu-christian-church-6/
LOCATION:Honolulu Christian Church\, 2207 Oahu Ave.\, Honolulu\, HI\, 96822\, United States
END:VEVENT
BEGIN:VEVENT
DTSTART;TZID=Pacific/Honolulu:20230212T103000
DTEND;TZID=Pacific/Honolulu:20230212T120000
DTSTAMP:20260425T003831
CREATED:20221208T223411Z
LAST-MODIFIED:20221208T223411Z
UID:12363-1676197800-1676203200@evidenceandanswers.org
SUMMARY:Honolulu Christian Church
DESCRIPTION:Pat will be preaching the Sunday message at the Honolulu Christian Church
URL:https://evidenceandanswers.org/event/honolulu-christian-church-5/
LOCATION:Honolulu Christian Church\, 2207 Oahu Ave.\, Honolulu\, HI\, 96822\, United States
END:VEVENT
BEGIN:VEVENT
DTSTART;TZID=Pacific/Honolulu:20230205T103000
DTEND;TZID=Pacific/Honolulu:20230205T120000
DTSTAMP:20260425T003831
CREATED:20221208T223250Z
LAST-MODIFIED:20221208T223250Z
UID:12361-1675593000-1675598400@evidenceandanswers.org
SUMMARY:Honolulu Christian Church
DESCRIPTION:Pat will be preaching the Sunday message at the Honolulu Christian Church.
URL:https://evidenceandanswers.org/event/honolulu-christian-church-4/
LOCATION:Honolulu Christian Church\, 2207 Oahu Ave.\, Honolulu\, HI\, 96822\, United States
END:VEVENT
BEGIN:VEVENT
DTSTART;TZID=Pacific/Honolulu:20220703T103000
DTEND;TZID=Pacific/Honolulu:20220703T120000
DTSTAMP:20260425T003831
CREATED:20220623T210731Z
LAST-MODIFIED:20220623T210731Z
UID:10954-1656844200-1656849600@evidenceandanswers.org
SUMMARY:Lifesong Community Church\, Chino Hills\, CA
DESCRIPTION:Pat will be speaking at the Sunday service at Lifesong Community Church.
URL:https://evidenceandanswers.org/event/lifesong-community-church-chino-hills-ca/
END:VEVENT
BEGIN:VEVENT
DTSTART;TZID=Pacific/Honolulu:20220626T103000
DTEND;TZID=Pacific/Honolulu:20220626T120000
DTSTAMP:20260425T003831
CREATED:20220623T210545Z
LAST-MODIFIED:20220623T210545Z
UID:10949-1656239400-1656244800@evidenceandanswers.org
SUMMARY:El Estero Presbyterian Church
DESCRIPTION:Pat will be speaking at the Sunday Morning service on “The Schemes of Satan and a Disciple’s Defense”
URL:https://evidenceandanswers.org/event/el-estero-presbyterian-church/
END:VEVENT
BEGIN:VEVENT
DTSTART;TZID=Pacific/Honolulu:20220612T100000
DTEND;TZID=Pacific/Honolulu:20220612T120000
DTSTAMP:20260425T003831
CREATED:20220420T233418Z
LAST-MODIFIED:20220420T233440Z
UID:10528-1655028000-1655035200@evidenceandanswers.org
SUMMARY:Mililani Community Church
DESCRIPTION:Pat will be speaking during MCC’s Sunday Service at 10am
URL:https://evidenceandanswers.org/event/mililani-community-church-4/
END:VEVENT
BEGIN:VEVENT
DTSTART;TZID=Pacific/Honolulu:20220606T160000
DTEND;TZID=Pacific/Honolulu:20220617T200000
DTSTAMP:20260425T003831
CREATED:20220420T233249Z
LAST-MODIFIED:20220420T233249Z
UID:10526-1654531200-1655496000@evidenceandanswers.org
SUMMARY:Pac Rim University: World Religions Class
DESCRIPTION:Pat will be teaching an apologetics 2 week intensive.
URL:https://evidenceandanswers.org/event/pac-rim-university-world-religions-class/
CATEGORIES:Guest Speaking Engagement
END:VEVENT
BEGIN:VEVENT
DTSTART;TZID=Pacific/Honolulu:20220605T100000
DTEND;TZID=Pacific/Honolulu:20220605T120000
DTSTAMP:20260425T003831
CREATED:20220420T232200Z
LAST-MODIFIED:20220420T232811Z
UID:10523-1654423200-1654430400@evidenceandanswers.org
SUMMARY:Kaneohe Congregational Church
DESCRIPTION:Pat will be speaking during Sunday Service…
URL:https://evidenceandanswers.org/event/kaneohe-congregational-church/
LOCATION:Kaneohe Congregational Church\, 45-114 Waikapoki Rd.\, Kaneohe\, 96744\, United States
CATEGORIES:Guest Speaking Engagement
END:VEVENT
BEGIN:VEVENT
DTSTART;VALUE=DATE:20220501
DTEND;VALUE=DATE:20220502
DTSTAMP:20260425T003831
CREATED:20220420T230927Z
LAST-MODIFIED:20220420T230927Z
UID:10518-1651363200-1651449599@evidenceandanswers.org
SUMMARY:Dongshin Church of Southern California
DESCRIPTION:Pat will be speaking during the Sunday Youth Service in Los Angeles\, California \n 
URL:https://evidenceandanswers.org/event/dongshin-church-of-southern-california/
END:VEVENT
BEGIN:VEVENT
DTSTART;TZID=Asia/Manila:20220417T090000
DTEND;TZID=Asia/Manila:20220417T103000
DTSTAMP:20260425T003831
CREATED:20220129T065153Z
LAST-MODIFIED:20220129T065153Z
UID:10201-1650186000-1650191400@evidenceandanswers.org
SUMMARY:Grace Gospel Church North\, Manila\, Philippines
DESCRIPTION:Pat will be preaching the Sunday service at Grace Gospel Church North\, in Quezon City\, Manila\, Philippines.
URL:https://evidenceandanswers.org/event/grace-gospel-church-north-manila-philippines/
LOCATION:Grace Gospel Church North\, #12 Congressional Ave.\, Quezon City\, Philippines
CATEGORIES:Guest Speaking Engagement
END:VEVENT
BEGIN:VEVENT
DTSTART;TZID=Pacific/Honolulu:20220320T100000
DTEND;TZID=Pacific/Honolulu:20220320T113000
DTSTAMP:20260425T003831
CREATED:20220129T063313Z
LAST-MODIFIED:20220129T063313Z
UID:10197-1647770400-1647775800@evidenceandanswers.org
SUMMARY:Crossroads Community Church
DESCRIPTION:Pat will be speaking at the Sunday Service at Crossroads Community Church in Mission Viejo\, CA.
URL:https://evidenceandanswers.org/event/crossroads-community-church/
LOCATION:Crossroads Community Church\, Viejo\, CA\, United States
END:VEVENT
BEGIN:VEVENT
DTSTART;VALUE=DATE:20220314
DTEND;VALUE=DATE:20220317
DTSTAMP:20260425T003831
CREATED:20220112T213729Z
LAST-MODIFIED:20220114T213039Z
UID:10148-1647216000-1647475199@evidenceandanswers.org
SUMMARY:Kanakuk Institute
DESCRIPTION:Pat will be speaking at the Kanakuk Institute in Branson\, MO\, teaching apologetics at the Institute.
URL:https://evidenceandanswers.org/event/kanakuk-institute/
LOCATION:Kanakuk Bible Institute\, 833 Lakeshore Drive\, Branson\, 65616\, United States
CATEGORIES:Guest Speaking Engagement
END:VEVENT
BEGIN:VEVENT
DTSTART;TZID=Pacific/Honolulu:20220313T103000
DTEND;TZID=Pacific/Honolulu:20220313T170000
DTSTAMP:20260425T003831
CREATED:20220129T063557Z
LAST-MODIFIED:20220129T063557Z
UID:10199-1647167400-1647190800@evidenceandanswers.org
SUMMARY:Lifesong Community Church
DESCRIPTION:Pat will be speaking at the Sunday Service at Lifesong Community Church
URL:https://evidenceandanswers.org/event/lifesong-community-church/
LOCATION:Life Song Community Church\, 13333 Ramona Ave\, Chino\, CA\, 91710
CATEGORIES:Guest Speaking Engagement
END:VEVENT
END:VCALENDAR