BEGIN:VCALENDAR
VERSION:2.0
PRODID:-//Evidence and Answers - ECPv6.15.20//NONSGML v1.0//EN
CALSCALE:GREGORIAN
METHOD:PUBLISH
X-ORIGINAL-URL:https://evidenceandanswers.org
X-WR-CALDESC:Events for Evidence and Answers
REFRESH-INTERVAL;VALUE=DURATION:PT1H
X-Robots-Tag:noindex
X-PUBLISHED-TTL:PT1H
BEGIN:VTIMEZONE
TZID:Pacific/Honolulu
BEGIN:STANDARD
TZOFFSETFROM:-1000
TZOFFSETTO:-1000
TZNAME:HST
DTSTART:20220101T000000
END:STANDARD
END:VTIMEZONE
BEGIN:VTIMEZONE
TZID:Asia/Manila
BEGIN:STANDARD
TZOFFSETFROM:+0800
TZOFFSETTO:+0800
TZNAME:PST
DTSTART:20220101T000000
END:STANDARD
END:VTIMEZONE
BEGIN:VEVENT
DTSTART;TZID=Pacific/Honolulu:20241229T103000
DTEND;TZID=Pacific/Honolulu:20241229T120000
DTSTAMP:20260424T054811
CREATED:20241217T231933Z
LAST-MODIFIED:20241217T231933Z
UID:23437-1735468200-1735473600@evidenceandanswers.org
SUMMARY:Honolulu Christian Church
DESCRIPTION:Pat will be preaching at the Honolulu Christian Church morning service.
URL:https://evidenceandanswers.org/event/honolulu-christian-church-8/
LOCATION:Honolulu Christian Church\, 2207 Oahu Ave.\, Honolulu\, HI\, 96822\, United States
END:VEVENT
BEGIN:VEVENT
DTSTART;TZID=Pacific/Honolulu:20241102T090000
DTEND;TZID=Pacific/Honolulu:20241102T120000
DTSTAMP:20260424T054811
CREATED:20241016T234737Z
LAST-MODIFIED:20241016T234811Z
UID:23317-1730538000-1730548800@evidenceandanswers.org
SUMMARY:Inspire Men's Breakfast
DESCRIPTION:
URL:https://evidenceandanswers.org/event/inspire-mens-breakfast/
LOCATION:Inspire Church – Mililani Campus\, 95-061 Waimakua Drive\, Mililani\, HI\, 96789\, United States
END:VEVENT
BEGIN:VEVENT
DTSTART;TZID=Pacific/Honolulu:20241025T190000
DTEND;TZID=Pacific/Honolulu:20241025T210000
DTSTAMP:20260424T054811
CREATED:20240904T021958Z
LAST-MODIFIED:20240904T021958Z
UID:23245-1729882800-1729890000@evidenceandanswers.org
SUMMARY:Sunset Beach Christian Church Discipleship School
DESCRIPTION:
URL:https://evidenceandanswers.org/event/sunset-beach-christian-church-discipleship-school/
END:VEVENT
BEGIN:VEVENT
DTSTART;TZID=Pacific/Honolulu:20240928T000000
DTEND;TZID=Pacific/Honolulu:20240928T000000
DTSTAMP:20260424T054811
CREATED:20240606T205513Z
LAST-MODIFIED:20240606T205513Z
UID:20449-1727481600-1727481600@evidenceandanswers.org
SUMMARY:Evidence and Answers Banquet
DESCRIPTION:
URL:https://evidenceandanswers.org/event/evidence-and-answers-banquet/
LOCATION:Kalihi Union Church\, 2214 North King St.\, Honolulu\, 96819\, United States
END:VEVENT
BEGIN:VEVENT
DTSTART;TZID=Pacific/Honolulu:20240914T120000
DTEND;TZID=Pacific/Honolulu:20240916T115959
DTSTAMP:20260424T054811
CREATED:20240904T021744Z
LAST-MODIFIED:20240904T021744Z
UID:23243-1726315200-1726487999@evidenceandanswers.org
SUMMARY:Grace Gospel Church North
DESCRIPTION:
URL:https://evidenceandanswers.org/event/grace-gospel-church-north-3/
END:VEVENT
BEGIN:VEVENT
DTSTART;TZID=Pacific/Honolulu:20240909T120000
DTEND;TZID=Pacific/Honolulu:20240921T115959
DTSTAMP:20260424T054811
CREATED:20240606T205512Z
LAST-MODIFIED:20240904T021556Z
UID:20448-1725883200-1726919999@evidenceandanswers.org
SUMMARY:Word of Life Bible Institute
DESCRIPTION:
URL:https://evidenceandanswers.org/event/word-of-life-bible-institute-16/
END:VEVENT
BEGIN:VEVENT
DTSTART;TZID=Pacific/Honolulu:20240901T140000
DTEND;TZID=Pacific/Honolulu:20240901T160000
DTSTAMP:20260424T054811
CREATED:20240904T021357Z
LAST-MODIFIED:20240904T021357Z
UID:23241-1725199200-1725206400@evidenceandanswers.org
SUMMARY:Jesus Reigns Ministries
DESCRIPTION:
URL:https://evidenceandanswers.org/event/jesus-reigns-ministries/
END:VEVENT
BEGIN:VEVENT
DTSTART;TZID=Pacific/Honolulu:20240810T000000
DTEND;TZID=Pacific/Honolulu:20240810T000000
DTSTAMP:20260424T054811
CREATED:20240606T205352Z
LAST-MODIFIED:20240606T205352Z
UID:20436-1723248000-1723248000@evidenceandanswers.org
SUMMARY:American Cultural Revolution 
DESCRIPTION:
URL:https://evidenceandanswers.org/event/american-cultural-revolution/
LOCATION:Mililani Community Church\, 95-1150 Kaapeha Street\, Mililani\, HI\, 96789\, United States
END:VEVENT
BEGIN:VEVENT
DTSTART;TZID=Pacific/Honolulu:20240802T000000
DTEND;TZID=Pacific/Honolulu:20240802T000000
DTSTAMP:20260424T054811
CREATED:20240606T205352Z
LAST-MODIFIED:20240606T205352Z
UID:20435-1722556800-1722556800@evidenceandanswers.org
SUMMARY:Engaging Mormonism
DESCRIPTION:Mormon Evangelism
URL:https://evidenceandanswers.org/event/engaging-mormonism/
END:VEVENT
BEGIN:VEVENT
DTSTART;TZID=Pacific/Honolulu:20240717T000000
DTEND;TZID=Pacific/Honolulu:20240717T000000
DTSTAMP:20260424T054811
CREATED:20240606T205351Z
LAST-MODIFIED:20240606T205351Z
UID:20434-1721174400-1721174400@evidenceandanswers.org
SUMMARY:Gardena Valley Baptist Church
DESCRIPTION:Gardena Valley Baptist
URL:https://evidenceandanswers.org/event/gardena-valley-baptist-church-4/
END:VEVENT
BEGIN:VEVENT
DTSTART;TZID=Pacific/Honolulu:20240716T000000
DTEND;TZID=Pacific/Honolulu:20240716T000000
DTSTAMP:20260424T054811
CREATED:20240606T205351Z
LAST-MODIFIED:20240606T205351Z
UID:20433-1721088000-1721088000@evidenceandanswers.org
SUMMARY:Gardena Valley Baptist Church
DESCRIPTION:Gardena Valley Baptist
URL:https://evidenceandanswers.org/event/gardena-valley-baptist-church-3/
END:VEVENT
BEGIN:VEVENT
DTSTART;TZID=Pacific/Honolulu:20240713T000000
DTEND;TZID=Pacific/Honolulu:20240713T000000
DTSTAMP:20260424T054811
CREATED:20240606T205338Z
LAST-MODIFIED:20240606T205338Z
UID:20432-1720828800-1720828800@evidenceandanswers.org
SUMMARY:AGLOW\, Los Angeles
DESCRIPTION:AGLOW
URL:https://evidenceandanswers.org/event/aglow-los-angeles/
END:VEVENT
BEGIN:VEVENT
DTSTART;TZID=Pacific/Honolulu:20240701T000000
DTEND;TZID=Pacific/Honolulu:20240706T000000
DTSTAMP:20260424T054811
CREATED:20240606T205333Z
LAST-MODIFIED:20240619T014849Z
UID:20426-1719792000-1720224000@evidenceandanswers.org
SUMMARY:JEMS Mt. Hermon
DESCRIPTION:JEMS Mt. Hermon
URL:https://evidenceandanswers.org/event/jems-mt-hermon/
END:VEVENT
BEGIN:VEVENT
DTSTART;TZID=Pacific/Honolulu:20240623T000000
DTEND;TZID=Pacific/Honolulu:20240623T000000
DTSTAMP:20260424T054811
CREATED:20240606T205332Z
LAST-MODIFIED:20240606T205332Z
UID:20425-1719100800-1719100800@evidenceandanswers.org
SUMMARY:Wintersburg Presbyterian Church
DESCRIPTION:
URL:https://evidenceandanswers.org/event/wintersburg-presbyterian-church/
END:VEVENT
BEGIN:VEVENT
DTSTART;TZID=Pacific/Honolulu:20240622T000000
DTEND;TZID=Pacific/Honolulu:20240622T000000
DTSTAMP:20260424T054811
CREATED:20240606T205332Z
LAST-MODIFIED:20240606T205332Z
UID:20424-1719014400-1719014400@evidenceandanswers.org
SUMMARY:College Prep Conference
DESCRIPTION:Preparing Christian Students for College
URL:https://evidenceandanswers.org/event/college-prep-conference-2/
END:VEVENT
BEGIN:VEVENT
DTSTART;TZID=Pacific/Honolulu:20240621T000000
DTEND;TZID=Pacific/Honolulu:20240621T000000
DTSTAMP:20260424T054811
CREATED:20240606T205331Z
LAST-MODIFIED:20240606T205331Z
UID:20423-1718928000-1718928000@evidenceandanswers.org
SUMMARY:College Prep Conference
DESCRIPTION:Preparing Christian Students for College
URL:https://evidenceandanswers.org/event/college-prep-conference/
END:VEVENT
BEGIN:VEVENT
DTSTART;TZID=Pacific/Honolulu:20240526T100000
DTEND;TZID=Pacific/Honolulu:20240526T120000
DTSTAMP:20260424T054811
CREATED:20231220T011213Z
LAST-MODIFIED:20231220T011213Z
UID:19793-1716717600-1716724800@evidenceandanswers.org
SUMMARY:Mililani Community Church
DESCRIPTION:
URL:https://evidenceandanswers.org/event/mililani-community-church-6/
END:VEVENT
BEGIN:VEVENT
DTSTART;TZID=Pacific/Honolulu:20240428T100000
DTEND;TZID=Pacific/Honolulu:20240428T120000
DTSTAMP:20260424T054811
CREATED:20231227T234802Z
LAST-MODIFIED:20231227T234802Z
UID:19798-1714298400-1714305600@evidenceandanswers.org
SUMMARY:Molokai Baptist Church
DESCRIPTION:
URL:https://evidenceandanswers.org/event/molokai-baptist-church/
LOCATION:Molokai Baptist Church\, 495 Puupeelua Ave\, Ho'olehua\, HI\, 96729\, United States
END:VEVENT
BEGIN:VEVENT
DTSTART;TZID=Pacific/Honolulu:20240427T103000
DTEND;TZID=Pacific/Honolulu:20240427T123000
DTSTAMP:20260424T054811
CREATED:20231228T024816Z
LAST-MODIFIED:20231228T024816Z
UID:19801-1714213800-1714221000@evidenceandanswers.org
SUMMARY:Aloha Pregnancy Center Fundraiser
DESCRIPTION:
URL:https://evidenceandanswers.org/event/aloha-pregnancy-center-fundraiser/
LOCATION:Japanese Cultural Center
END:VEVENT
BEGIN:VEVENT
DTSTART;TZID=Pacific/Honolulu:20240414T120000
DTEND;TZID=Pacific/Honolulu:20240415T115959
DTSTAMP:20260424T054811
CREATED:20231016T140908Z
LAST-MODIFIED:20231016T141723Z
UID:14367-1713096000-1713182399@evidenceandanswers.org
SUMMARY:Mustard Seed Church\, Tokyo
DESCRIPTION:More info coming soon!
URL:https://evidenceandanswers.org/event/mustard-seed-church-tokyo/
LOCATION:Pacific Rim Christian University\, 2223 Ho‘one‘e Pl\, Honolulu\, HI\, 96819\, United States
CATEGORIES:Conference
END:VEVENT
BEGIN:VEVENT
DTSTART;TZID=Pacific/Honolulu:20240222T180000
DTEND;TZID=Pacific/Honolulu:20240222T203000
DTSTAMP:20260424T054811
CREATED:20231220T004650Z
LAST-MODIFIED:20231220T004650Z
UID:19782-1708624800-1708633800@evidenceandanswers.org
SUMMARY:Evidence and Answers Pre-conference seminar
DESCRIPTION:Biblical Sexuality
URL:https://evidenceandanswers.org/event/evidence-and-answers-pre-conference-seminar/
LOCATION:Honolulu Christian Church\, 2207 Oahu Ave.\, Honolulu\, HI\, 96822\, United States
END:VEVENT
BEGIN:VEVENT
DTSTART;TZID=Pacific/Honolulu:20240128T100000
DTEND;TZID=Pacific/Honolulu:20240128T113000
DTSTAMP:20260424T054811
CREATED:20231220T005630Z
LAST-MODIFIED:20231220T005630Z
UID:19791-1706436000-1706441400@evidenceandanswers.org
SUMMARY:Mililani Community Church
DESCRIPTION:Just War vs. Terrorism Part 2
URL:https://evidenceandanswers.org/event/mililani-community-church-5/
LOCATION:Mililani Community Church\, 95-1150 Kaapeha Street\, Mililani\, HI\, 96789\, United States
END:VEVENT
BEGIN:VEVENT
DTSTART;TZID=Pacific/Honolulu:20231226T120000
DTEND;TZID=Pacific/Honolulu:20231230T115959
DTSTAMP:20260424T054811
CREATED:20230604T201418Z
LAST-MODIFIED:20231215T173809Z
UID:13164-1703592000-1703937599@evidenceandanswers.org
SUMMARY:Live Out Loud Conference
DESCRIPTION:Apologetics
URL:https://evidenceandanswers.org/event/live-out-loud-conference-1226-122923/
LOCATION:Pali Mountain Retreat Center\, 30778 CA-18\, Running Springs\, 92382\, United States
CATEGORIES:Conference
END:VEVENT
BEGIN:VEVENT
DTSTART;TZID=Pacific/Honolulu:20231119T120000
DTEND;TZID=Pacific/Honolulu:20231120T115959
DTSTAMP:20260424T054811
CREATED:20231016T140806Z
LAST-MODIFIED:20231016T142002Z
UID:14364-1700395200-1700481599@evidenceandanswers.org
SUMMARY:Calvary Chapel Windward
DESCRIPTION:More info coming soon!
URL:https://evidenceandanswers.org/event/calvary-chapel-windward-3/
LOCATION:Calvary Chapel Winward\, 25 Kaneohe Bay Dr #250\, Kailua\, 96734\, United States
CATEGORIES:Conference
END:VEVENT
BEGIN:VEVENT
DTSTART;TZID=Pacific/Honolulu:20231112T120000
DTEND;TZID=Pacific/Honolulu:20231113T115959
DTSTAMP:20260424T054811
CREATED:20231016T140537Z
LAST-MODIFIED:20231016T141942Z
UID:14361-1699790400-1699876799@evidenceandanswers.org
SUMMARY:Grace Gospel Church North
DESCRIPTION:More info coming soon!
URL:https://evidenceandanswers.org/event/grace-gospel-church-north-2/
LOCATION:Quezon City\, Philippines
CATEGORIES:Conference
END:VEVENT
BEGIN:VEVENT
DTSTART;TZID=Pacific/Honolulu:20231031T120000
DTEND;TZID=Pacific/Honolulu:20231111T115959
DTSTAMP:20260424T054811
CREATED:20231016T140347Z
LAST-MODIFIED:20231016T141907Z
UID:14358-1698753600-1699703999@evidenceandanswers.org
SUMMARY:Word of Life Bible Institute
DESCRIPTION:More info coming soon!
URL:https://evidenceandanswers.org/event/word-of-life-bible-institute-2/
LOCATION:Laguna\, Philippines
CATEGORIES:Conference
END:VEVENT
BEGIN:VEVENT
DTSTART;TZID=Asia/Manila:20231029T140000
DTEND;TZID=Asia/Manila:20231029T170000
DTSTAMP:20260424T054811
CREATED:20231018T043912Z
LAST-MODIFIED:20231018T044127Z
UID:14385-1698588000-1698598800@evidenceandanswers.org
SUMMARY:Youth Leaders Huddle
DESCRIPTION:Pat will be speaking to youth leaders from several churches in Las Pinas City\, south of Manila\, Philippines.
URL:https://evidenceandanswers.org/event/youth-leaders-huddle/
LOCATION:Vista Mall\, Las Pinas\, Las Pinas\, Las Pinas\, Philippines
END:VEVENT
BEGIN:VEVENT
DTSTART;VALUE=DATE:20230930
DTEND;VALUE=DATE:20231002
DTSTAMP:20260424T054811
CREATED:20230604T201216Z
LAST-MODIFIED:20230606T021639Z
UID:13161-1696075200-1696161599@evidenceandanswers.org
SUMMARY:Evidence and Answers banquet
DESCRIPTION:
URL:https://evidenceandanswers.org/event/evidence-and-answers-banquet-09302023/
LOCATION:Honolulu\, HI
CATEGORIES:Conference
END:VEVENT
BEGIN:VEVENT
DTSTART;TZID=Pacific/Honolulu:20230722T080000
DTEND;TZID=Pacific/Honolulu:20230722T170000
DTSTAMP:20260424T054811
CREATED:20230105T001550Z
LAST-MODIFIED:20230606T021718Z
UID:12447-1690012800-1690045200@evidenceandanswers.org
SUMMARY:AGLOW Los Angeles
DESCRIPTION:
URL:https://evidenceandanswers.org/event/aglow-los-angeles-07222023/
LOCATION:AGLOW Los Angeles\, 3285 Lake Ave\, Altadena\, CA\, 91001\, United States
CATEGORIES:Guest Speaking Engagement
END:VEVENT
BEGIN:VEVENT
DTSTART;VALUE=DATE:20230717
DTEND;VALUE=DATE:20230720
DTSTAMP:20260424T054811
CREATED:20230523T002526Z
LAST-MODIFIED:20230523T002526Z
UID:13062-1689595200-1689767999@evidenceandanswers.org
SUMMARY:Gardena Valley Baptist Church
DESCRIPTION:Guest Speaking at Gardena Valley Baptist Church in Gardena\, California
URL:https://evidenceandanswers.org/event/gardena-valley-baptist-church-2/
CATEGORIES:Guest Speaking Engagement
END:VEVENT
END:VCALENDAR