BEGIN:VCALENDAR
VERSION:2.0
PRODID:-//Evidence and Answers - ECPv6.15.20//NONSGML v1.0//EN
CALSCALE:GREGORIAN
METHOD:PUBLISH
X-WR-CALNAME:Evidence and Answers
X-ORIGINAL-URL:https://evidenceandanswers.org
X-WR-CALDESC:Events for Evidence and Answers
REFRESH-INTERVAL;VALUE=DURATION:PT1H
X-Robots-Tag:noindex
X-PUBLISHED-TTL:PT1H
BEGIN:VTIMEZONE
TZID:America/Los_Angeles
BEGIN:DAYLIGHT
TZOFFSETFROM:-0800
TZOFFSETTO:-0700
TZNAME:PDT
DTSTART:20240310T100000
END:DAYLIGHT
BEGIN:STANDARD
TZOFFSETFROM:-0700
TZOFFSETTO:-0800
TZNAME:PST
DTSTART:20241103T090000
END:STANDARD
BEGIN:DAYLIGHT
TZOFFSETFROM:-0800
TZOFFSETTO:-0700
TZNAME:PDT
DTSTART:20250309T100000
END:DAYLIGHT
BEGIN:STANDARD
TZOFFSETFROM:-0700
TZOFFSETTO:-0800
TZNAME:PST
DTSTART:20251102T090000
END:STANDARD
BEGIN:DAYLIGHT
TZOFFSETFROM:-0800
TZOFFSETTO:-0700
TZNAME:PDT
DTSTART:20260308T100000
END:DAYLIGHT
BEGIN:STANDARD
TZOFFSETFROM:-0700
TZOFFSETTO:-0800
TZNAME:PST
DTSTART:20261101T090000
END:STANDARD
END:VTIMEZONE
BEGIN:VTIMEZONE
TZID:Pacific/Honolulu
BEGIN:STANDARD
TZOFFSETFROM:-1000
TZOFFSETTO:-1000
TZNAME:HST
DTSTART:20150101T000000
END:STANDARD
END:VTIMEZONE
BEGIN:VTIMEZONE
TZID:Asia/Manila
BEGIN:STANDARD
TZOFFSETFROM:+0800
TZOFFSETTO:+0800
TZNAME:PST
DTSTART:20160101T000000
END:STANDARD
END:VTIMEZONE
BEGIN:VEVENT
DTSTART;TZID=America/Los_Angeles:20250916T120000
DTEND;TZID=America/Los_Angeles:20250927T115959
DTSTAMP:20260424T094153
CREATED:20250420T175355Z
LAST-MODIFIED:20250420T175355Z
UID:23872-1758024000-1758974399@evidenceandanswers.org
SUMMARY:Word of Life Philippines
DESCRIPTION:More info coming soon!
URL:https://evidenceandanswers.org/event/word-of-life-philippines-24/
LOCATION:Laguna\, Philippines
CATEGORIES:Conference
END:VEVENT
BEGIN:VEVENT
DTSTART;TZID=America/Los_Angeles:20250821T120000
DTEND;TZID=America/Los_Angeles:20250825T115959
DTSTAMP:20260424T094153
CREATED:20250420T175355Z
LAST-MODIFIED:20250420T175355Z
UID:23871-1755777600-1756123199@evidenceandanswers.org
SUMMARY:WOL Mindanao
DESCRIPTION:More info coming soon!
URL:https://evidenceandanswers.org/event/wol-mindanao-9/
CATEGORIES:Conference
END:VEVENT
BEGIN:VEVENT
DTSTART;TZID=Pacific/Honolulu:20240414T120000
DTEND;TZID=Pacific/Honolulu:20240415T115959
DTSTAMP:20260424T094153
CREATED:20231016T140908Z
LAST-MODIFIED:20231016T141723Z
UID:14367-1713096000-1713182399@evidenceandanswers.org
SUMMARY:Mustard Seed Church\, Tokyo
DESCRIPTION:More info coming soon!
URL:https://evidenceandanswers.org/event/mustard-seed-church-tokyo/
LOCATION:Pacific Rim Christian University\, 2223 Ho‘one‘e Pl\, Honolulu\, HI\, 96819\, United States
CATEGORIES:Conference
END:VEVENT
BEGIN:VEVENT
DTSTART;TZID=Pacific/Honolulu:20231226T120000
DTEND;TZID=Pacific/Honolulu:20231230T115959
DTSTAMP:20260424T094153
CREATED:20230604T201418Z
LAST-MODIFIED:20231215T173809Z
UID:13164-1703592000-1703937599@evidenceandanswers.org
SUMMARY:Live Out Loud Conference
DESCRIPTION:Apologetics
URL:https://evidenceandanswers.org/event/live-out-loud-conference-1226-122923/
LOCATION:Pali Mountain Retreat Center\, 30778 CA-18\, Running Springs\, 92382\, United States
CATEGORIES:Conference
END:VEVENT
BEGIN:VEVENT
DTSTART;TZID=Pacific/Honolulu:20231119T120000
DTEND;TZID=Pacific/Honolulu:20231120T115959
DTSTAMP:20260424T094153
CREATED:20231016T140806Z
LAST-MODIFIED:20231016T142002Z
UID:14364-1700395200-1700481599@evidenceandanswers.org
SUMMARY:Calvary Chapel Windward
DESCRIPTION:More info coming soon!
URL:https://evidenceandanswers.org/event/calvary-chapel-windward-3/
LOCATION:Calvary Chapel Winward\, 25 Kaneohe Bay Dr #250\, Kailua\, 96734\, United States
CATEGORIES:Conference
END:VEVENT
BEGIN:VEVENT
DTSTART;TZID=Pacific/Honolulu:20231112T120000
DTEND;TZID=Pacific/Honolulu:20231113T115959
DTSTAMP:20260424T094153
CREATED:20231016T140537Z
LAST-MODIFIED:20231016T141942Z
UID:14361-1699790400-1699876799@evidenceandanswers.org
SUMMARY:Grace Gospel Church North
DESCRIPTION:More info coming soon!
URL:https://evidenceandanswers.org/event/grace-gospel-church-north-2/
LOCATION:Quezon City\, Philippines
CATEGORIES:Conference
END:VEVENT
BEGIN:VEVENT
DTSTART;TZID=Pacific/Honolulu:20231031T120000
DTEND;TZID=Pacific/Honolulu:20231111T115959
DTSTAMP:20260424T094153
CREATED:20231016T140347Z
LAST-MODIFIED:20231016T141907Z
UID:14358-1698753600-1699703999@evidenceandanswers.org
SUMMARY:Word of Life Bible Institute
DESCRIPTION:More info coming soon!
URL:https://evidenceandanswers.org/event/word-of-life-bible-institute-2/
LOCATION:Laguna\, Philippines
CATEGORIES:Conference
END:VEVENT
BEGIN:VEVENT
DTSTART;VALUE=DATE:20230930
DTEND;VALUE=DATE:20231002
DTSTAMP:20260424T094153
CREATED:20230604T201216Z
LAST-MODIFIED:20230606T021639Z
UID:13161-1696075200-1696161599@evidenceandanswers.org
SUMMARY:Evidence and Answers banquet
DESCRIPTION:
URL:https://evidenceandanswers.org/event/evidence-and-answers-banquet-09302023/
LOCATION:Honolulu\, HI
CATEGORIES:Conference
END:VEVENT
BEGIN:VEVENT
DTSTART;VALUE=DATE:20211226
DTEND;VALUE=DATE:20211230
DTSTAMP:20260424T094153
CREATED:20211211T194612Z
LAST-MODIFIED:20211217T194926Z
UID:10122-1640476800-1640822399@evidenceandanswers.org
SUMMARY:Renew Conference
DESCRIPTION:Pat will be guest speaking during the Renew Conference in person. \nLocated in California.
URL:https://evidenceandanswers.org/event/renew-conference/
CATEGORIES:Conference
END:VEVENT
BEGIN:VEVENT
DTSTART;TZID=Pacific/Honolulu:20200830T180000
DTEND;TZID=Pacific/Honolulu:20200830T200000
DTSTAMP:20260424T094153
CREATED:20200110T080404Z
LAST-MODIFIED:20200810T013431Z
UID:9015-1598810400-1598817600@evidenceandanswers.org
SUMMARY:Evidence and Answers Conference:  Truth: Finding Clarity in Confusing Times
DESCRIPTION:Truth: what is it? Is it relative or absolute? What determines truth and can we know it? We live in not only a post-Christian culture but a post-truth culture that is confused about what is truth. This is the most significant issue our culture faces today.  C.S. Lewis stated that the poison of subjectivism “will certainly end our species and damn our souls if it is not crushed;…” Philosopher Peter Kreeft states\, “There has never been a society of relativists. Therefore\, our society will do one of three things: either disprove one of the most universally established laws of all history; or repent of its relativism and survive; or persist in its relativism and perish.” The welfare of the church and our nation is at stake. This is the issue we are addressing at this year’s Evidence and Answers Apologetics Conference.  \nJoin us for another engaging conference August 28-30 Online. Three days of teaching from some of the finest Christian scholars and apologists today.  \n[button link=”https://evidenceandanswers.org/shop/2020-conference-truth/” type=”big” color=”lightblue” newwindow=”yes”] Buy now[/button] \n\nOur Guest Speakers:\nKerby Anderson                                                                                                        Kerby is the President of Probe Ministries. He holds masters degrees from\nYale University (science) and Georgetown University (government).\nHe is the host of the daily “Point of View” radio talk show and contributor to the daily\nProbe radio program. \nHe is the author of fifteen books including Christian Ethics in Plain Language\, A Biblical\nPoint of View on Islam\, A Biblical Point of View on Homosexuality\, A Biblical Point of\nView on Intelligent Design\, Christians and Government\, Christians and Economics\,\nTechnology and Social Trends\, and Arts\, Media\, and Culture\nHe produces a daily syndicated radio commentary and has written editorials that have\nappeared in the Dallas Morning News\, the Miami Herald\, the San Jose Mercury\, and the\nHouston Post. \nKerby is married and the father of three grown children and one grandchild. He and his\nwife Susanne reside in Allen\, Texas. \nRandy Manley\nRandy grew up as a PK (pastor’s kid) in South Florida. Although he was introduced to Christ at a young age it wasn’t until his time in college that he gave himself fully to do whatever and go wherever God would call him. Little did he know that God would prepare him for and eventually lead him to minister on the island of Molokai\, Hawaii where he has ministered for the past 25 years as pastor of Molokai Baptist Church. \nCurious by nature\, Randy enjoys looking for answers to tough questions. This curiosity has not only placed him on a lifelong pursuit of truth\, but it has spurned him on in his educational endeavors. He holds an undergrad degree from Liberty University as well as masters degrees from Tampa Bay Theological Seminary and Southern Evangelical Seminary. He is currently pursuing a Doctor of Ministry in Apologetics from Southern Evangelical Seminary. \nThough curious\, Randy’s consuming passion is to communicate God’s Word in a clear and understandable way so that God’s glory is always unveiled\, unbelievers are introduced to Jesus\, and believers are instructed and equipped to live joy-filled\, heaven-bound lives. \nHe has been married to his college sweetheart\, Louise\, for 32 years. They have five children — Clinton\, Colton\, Charisse\, Cendall\, and Caele. \nFazale Rana                                                                                                       Biochemist Fazale “Fuz” Rana is vice president of research and apologetics at Reasons to Believe\, an organization dedicated to demonstrating the compatibility of science and Christianity. Fuz writes and speaks extensively on the powerful scientific case for God’s existence and the Bible’s reliability using evidence from biochemistry\, genetics\, and human origins. He is author of multiple books\, including Humans 2.0. Fuz earned his PhD in chemistry with an emphasis in biochemistry at Ohio University. \n[button link=”https://evidenceandanswers.formstack.com/forms/registration” type=”big” color=”lightblue” newwindow=”yes”] Register now[/button]
URL:https://evidenceandanswers.org/event/evidence-and-answers-conference-truth-2020-08-30/
LOCATION:Livestream\, HI\, 96789\, United States
CATEGORIES:Conference
ATTACH;FMTTYPE=image/jpeg:https://evidenceandanswers.org/wp-content/uploads/sites/2/EA-TRUTH-updated-revised3-scaled.jpg
END:VEVENT
BEGIN:VEVENT
DTSTART;TZID=Pacific/Honolulu:20200829T130000
DTEND;TZID=Pacific/Honolulu:20200829T180000
DTSTAMP:20260424T094153
CREATED:20200110T080404Z
LAST-MODIFIED:20200810T013431Z
UID:9014-1598706000-1598724000@evidenceandanswers.org
SUMMARY:Evidence and Answers Conference:  Truth: Finding Clarity in Confusing Times
DESCRIPTION:Truth: what is it? Is it relative or absolute? What determines truth and can we know it? We live in not only a post-Christian culture but a post-truth culture that is confused about what is truth. This is the most significant issue our culture faces today.  C.S. Lewis stated that the poison of subjectivism “will certainly end our species and damn our souls if it is not crushed;…” Philosopher Peter Kreeft states\, “There has never been a society of relativists. Therefore\, our society will do one of three things: either disprove one of the most universally established laws of all history; or repent of its relativism and survive; or persist in its relativism and perish.” The welfare of the church and our nation is at stake. This is the issue we are addressing at this year’s Evidence and Answers Apologetics Conference.  \nJoin us for another engaging conference August 28-30 Online. Three days of teaching from some of the finest Christian scholars and apologists today.  \n[button link=”https://evidenceandanswers.org/shop/2020-conference-truth/” type=”big” color=”lightblue” newwindow=”yes”] Buy now[/button] \n\nOur Guest Speakers:\nKerby Anderson                                                                                                        Kerby is the President of Probe Ministries. He holds masters degrees from\nYale University (science) and Georgetown University (government).\nHe is the host of the daily “Point of View” radio talk show and contributor to the daily\nProbe radio program. \nHe is the author of fifteen books including Christian Ethics in Plain Language\, A Biblical\nPoint of View on Islam\, A Biblical Point of View on Homosexuality\, A Biblical Point of\nView on Intelligent Design\, Christians and Government\, Christians and Economics\,\nTechnology and Social Trends\, and Arts\, Media\, and Culture\nHe produces a daily syndicated radio commentary and has written editorials that have\nappeared in the Dallas Morning News\, the Miami Herald\, the San Jose Mercury\, and the\nHouston Post. \nKerby is married and the father of three grown children and one grandchild. He and his\nwife Susanne reside in Allen\, Texas. \nRandy Manley\nRandy grew up as a PK (pastor’s kid) in South Florida. Although he was introduced to Christ at a young age it wasn’t until his time in college that he gave himself fully to do whatever and go wherever God would call him. Little did he know that God would prepare him for and eventually lead him to minister on the island of Molokai\, Hawaii where he has ministered for the past 25 years as pastor of Molokai Baptist Church. \nCurious by nature\, Randy enjoys looking for answers to tough questions. This curiosity has not only placed him on a lifelong pursuit of truth\, but it has spurned him on in his educational endeavors. He holds an undergrad degree from Liberty University as well as masters degrees from Tampa Bay Theological Seminary and Southern Evangelical Seminary. He is currently pursuing a Doctor of Ministry in Apologetics from Southern Evangelical Seminary. \nThough curious\, Randy’s consuming passion is to communicate God’s Word in a clear and understandable way so that God’s glory is always unveiled\, unbelievers are introduced to Jesus\, and believers are instructed and equipped to live joy-filled\, heaven-bound lives. \nHe has been married to his college sweetheart\, Louise\, for 32 years. They have five children — Clinton\, Colton\, Charisse\, Cendall\, and Caele. \nFazale Rana                                                                                                       Biochemist Fazale “Fuz” Rana is vice president of research and apologetics at Reasons to Believe\, an organization dedicated to demonstrating the compatibility of science and Christianity. Fuz writes and speaks extensively on the powerful scientific case for God’s existence and the Bible’s reliability using evidence from biochemistry\, genetics\, and human origins. He is author of multiple books\, including Humans 2.0. Fuz earned his PhD in chemistry with an emphasis in biochemistry at Ohio University. \n[button link=”https://evidenceandanswers.formstack.com/forms/registration” type=”big” color=”lightblue” newwindow=”yes”] Register now[/button]
URL:https://evidenceandanswers.org/event/evidence-and-answers-conference-truth-2020-08-29/
LOCATION:Livestream\, HI\, 96789\, United States
CATEGORIES:Conference
ATTACH;FMTTYPE=image/jpeg:https://evidenceandanswers.org/wp-content/uploads/sites/2/EA-TRUTH-updated-revised3-scaled.jpg
END:VEVENT
BEGIN:VEVENT
DTSTART;TZID=Pacific/Honolulu:20200828T180000
DTEND;TZID=Pacific/Honolulu:20200830T200000
DTSTAMP:20260424T094153
CREATED:20200110T080404Z
LAST-MODIFIED:20200810T013431Z
UID:8416-1598637600-1598817600@evidenceandanswers.org
SUMMARY:Evidence and Answers Conference:  Truth: Finding Clarity in Confusing Times
DESCRIPTION:Truth: what is it? Is it relative or absolute? What determines truth and can we know it? We live in not only a post-Christian culture but a post-truth culture that is confused about what is truth. This is the most significant issue our culture faces today.  C.S. Lewis stated that the poison of subjectivism “will certainly end our species and damn our souls if it is not crushed;…” Philosopher Peter Kreeft states\, “There has never been a society of relativists. Therefore\, our society will do one of three things: either disprove one of the most universally established laws of all history; or repent of its relativism and survive; or persist in its relativism and perish.” The welfare of the church and our nation is at stake. This is the issue we are addressing at this year’s Evidence and Answers Apologetics Conference.  \nJoin us for another engaging conference August 28-30 Online. Three days of teaching from some of the finest Christian scholars and apologists today.  \n[button link=”https://evidenceandanswers.org/shop/2020-conference-truth/” type=”big” color=”lightblue” newwindow=”yes”] Buy now[/button] \n\nOur Guest Speakers:\nKerby Anderson                                                                                                        Kerby is the President of Probe Ministries. He holds masters degrees from\nYale University (science) and Georgetown University (government).\nHe is the host of the daily “Point of View” radio talk show and contributor to the daily\nProbe radio program. \nHe is the author of fifteen books including Christian Ethics in Plain Language\, A Biblical\nPoint of View on Islam\, A Biblical Point of View on Homosexuality\, A Biblical Point of\nView on Intelligent Design\, Christians and Government\, Christians and Economics\,\nTechnology and Social Trends\, and Arts\, Media\, and Culture\nHe produces a daily syndicated radio commentary and has written editorials that have\nappeared in the Dallas Morning News\, the Miami Herald\, the San Jose Mercury\, and the\nHouston Post. \nKerby is married and the father of three grown children and one grandchild. He and his\nwife Susanne reside in Allen\, Texas. \nRandy Manley\nRandy grew up as a PK (pastor’s kid) in South Florida. Although he was introduced to Christ at a young age it wasn’t until his time in college that he gave himself fully to do whatever and go wherever God would call him. Little did he know that God would prepare him for and eventually lead him to minister on the island of Molokai\, Hawaii where he has ministered for the past 25 years as pastor of Molokai Baptist Church. \nCurious by nature\, Randy enjoys looking for answers to tough questions. This curiosity has not only placed him on a lifelong pursuit of truth\, but it has spurned him on in his educational endeavors. He holds an undergrad degree from Liberty University as well as masters degrees from Tampa Bay Theological Seminary and Southern Evangelical Seminary. He is currently pursuing a Doctor of Ministry in Apologetics from Southern Evangelical Seminary. \nThough curious\, Randy’s consuming passion is to communicate God’s Word in a clear and understandable way so that God’s glory is always unveiled\, unbelievers are introduced to Jesus\, and believers are instructed and equipped to live joy-filled\, heaven-bound lives. \nHe has been married to his college sweetheart\, Louise\, for 32 years. They have five children — Clinton\, Colton\, Charisse\, Cendall\, and Caele. \nFazale Rana                                                                                                       Biochemist Fazale “Fuz” Rana is vice president of research and apologetics at Reasons to Believe\, an organization dedicated to demonstrating the compatibility of science and Christianity. Fuz writes and speaks extensively on the powerful scientific case for God’s existence and the Bible’s reliability using evidence from biochemistry\, genetics\, and human origins. He is author of multiple books\, including Humans 2.0. Fuz earned his PhD in chemistry with an emphasis in biochemistry at Ohio University. \n[button link=”https://evidenceandanswers.formstack.com/forms/registration” type=”big” color=”lightblue” newwindow=”yes”] Register now[/button]
URL:https://evidenceandanswers.org/event/evidence-and-answers-conference-truth/
LOCATION:Livestream\, HI\, 96789\, United States
CATEGORIES:Conference
ATTACH;FMTTYPE=image/jpeg:https://evidenceandanswers.org/wp-content/uploads/sites/2/EA-TRUTH-updated-revised3-scaled.jpg
END:VEVENT
BEGIN:VEVENT
DTSTART;TZID=Pacific/Honolulu:20200221T190000
DTEND;TZID=Pacific/Honolulu:20200222T163000
DTSTAMP:20260424T094153
CREATED:20191004T024357Z
LAST-MODIFIED:20200222T102349Z
UID:7783-1582311600-1582389000@evidenceandanswers.org
SUMMARY:EviAn Youth Apologetics Conference - TRUTH for YOUth
DESCRIPTION:In his book\, The Last Christian Generation\, Josh McDowell’s research revealed that 70-95% of teens abandon their faith after high school. Many are not prepared for the intellectual challenges they will face on the campus. The EviAn Youth Apologetics Conference is a unique conference designed to ground our youth in the Christian worldview and apologetics so they know why they believe. Then they will not be shaken when their faith is challenged and can be an effective witness for Christ on their campus. Join us this February 21-22 for this special event. There will be inspiring apologetics speakers\, lively worship\, discussion groups\, games\, food\, and fun. \nCost is $35 at the door.\n  \nTopics Include: \n\nTruth: Is Truth Relative or Absolute? \nThe Bible From God to Us (Evidence for the Authority of the Bible)\nThe Bible and Science\nIs Jesus the Only Way?\nQ&A\nDiscussion Groups\nGames and FOOD!!!\nAnd More!\n\nOnline Registration is now closed. \nSCHEDULE\nFriday\n6:15 PM Registration and Dinner\n7:00 PM Mixer / Worship Music\n7:45 PM SESSION 1\n8:25 PM Worship Music\n8:30 PM Refreshments\, Discussion Groups\n8:55 PM PANEL 1\n8:45 PM Worship Music\n9:30 PM Pau \nSaturday\n9:15 AM Registration\n10:00 AM Mixer / Worship Music\n10:40 AM SESSION 2\n11:20 AM Worship Music\n11:35 AM Lunch / Discussion Groups\n12:30 PM Worship Music\n12:40 PM Mixer\n12:50 PM SESSION 3\n2:00 PM Worship Music\n2:10 PM PANEL 2\n2:50 PM Worship Music\n3:00 PM SESSION 4\n3:40 PM Worship Music\n4:00 PM Refreshments/Ice Cream\n4:30 PM Pau \n 
URL:https://evidenceandanswers.org/event/evian/
LOCATION:Online Livestream\, 94-1323 Waipio Uka Street\, Waipahu\, HI\, 96797\, United States
CATEGORIES:Conference
ATTACH;FMTTYPE=image/jpeg:https://evidenceandanswers.org/wp-content/uploads/sites/2/poster.jpg
END:VEVENT
BEGIN:VEVENT
DTSTART;VALUE=DATE:20190715
DTEND;VALUE=DATE:20190727
DTSTAMP:20260424T094153
CREATED:20190422T053439Z
LAST-MODIFIED:20190422T053439Z
UID:8034-1563148800-1564185599@evidenceandanswers.org
SUMMARY:Word of Life Bible Institute Philippines
DESCRIPTION:
URL:https://evidenceandanswers.org/event/word-of-life-bible-institute-philippines/
LOCATION:Word of Life Bible institute\, Laguna\, Philippines
CATEGORIES:Class,Conference,Guest Speaking Engagement
END:VEVENT
BEGIN:VEVENT
DTSTART;TZID=Pacific/Honolulu:20190712T180000
DTEND;TZID=Pacific/Honolulu:20190713T150000
DTSTAMP:20260424T094153
CREATED:20190511T035558Z
LAST-MODIFIED:20190603T052332Z
UID:8051-1562954400-1563030000@evidenceandanswers.org
SUMMARY:Think Right Conference 2019
DESCRIPTION:
URL:https://evidenceandanswers.org/event/think-right-conference/
LOCATION:Green HIlls Christian Fellowship\, Garnet Roads Ortigas Center\, 1605\, Ruby Rd\, Pasig\, Metro Manila\, Philippines
CATEGORIES:Conference
END:VEVENT
BEGIN:VEVENT
DTSTART;VALUE=DATE:20190701
DTEND;VALUE=DATE:20190706
DTSTAMP:20260424T094153
CREATED:20190422T053009Z
LAST-MODIFIED:20190422T053009Z
UID:8029-1561939200-1562371199@evidenceandanswers.org
SUMMARY:JEMS Mt. Hermon Conference
DESCRIPTION:
URL:https://evidenceandanswers.org/event/jems-mt-hermon-conference/
LOCATION:Mt. Hermon Conference\, 37 Conference Dr\, Mt Hermon\, CA\, 95041\, United States
CATEGORIES:Conference
END:VEVENT
BEGIN:VEVENT
DTSTART;TZID=Pacific/Honolulu:20181019T183000
DTEND;TZID=Pacific/Honolulu:20181019T210000
DTSTAMP:20260424T094153
CREATED:20180816T005431Z
LAST-MODIFIED:20180906T060353Z
UID:5168-1539973800-1539982800@evidenceandanswers.org
SUMMARY:Evidence and Answers Celebration Banquet
DESCRIPTION:Pat Zukeran invites you to a night of celebration\, inspiration\, and challenge to partner with Pat in proclaiming and defending the Gospel of Christ in Hawaii and throughout the world. \nIf you’re interested in being an Evidence and Answers sponsor\, please review our sponsorship form. \nSuggested Donation $70 per seat\, $700 per table.  Donate online or send a check to Evidence and Answers at PO BOX 37963\, Honolulu\, HI 96837. \nDonate here.\nFor questions or to sponsor a table\, call Fran at 808-483-0586. \nLocation\nHonolulu Country Club\n1690 Ala Puumalu Street\nHonolulu\, HI 96818\nDoors open at 6:00 PM.
URL:https://evidenceandanswers.org/event/banquet/
LOCATION:Honolulu Country Club\, 1690 Ala Puumalu Street\, Honolulu\, HI\, 96818\, United States
CATEGORIES:Conference
END:VEVENT
BEGIN:VEVENT
DTSTART;TZID=Pacific/Honolulu:20180921T180000
DTEND;TZID=Pacific/Honolulu:20180922T150000
DTSTAMP:20260424T094153
CREATED:20180323T233207Z
LAST-MODIFIED:20180922T003721Z
UID:6759-1537552800-1537628400@evidenceandanswers.org
SUMMARY:2018 Evidence and Answers Conference
DESCRIPTION:https://evidenceandanswers.org/wp-content/uploads/sites/2/Hawaii-Final.mp4\nFeaturing Greg Koukl\, Founder and President\, Stand to Reason\nTicket prices are $40 until August 15\, $55 until September 20\, $70 at the door. \nSchedule:\nFriday\, September 21:  6pm-9:30pm\nLight Dinner served from 5-6pm \nSaturday\, September 22:  9am-3:30pm\nCoffee and refreshments served from 8:15-9am \nFriday Night    (6 PM – 930 PM)\n5-6pm  Light  Dinner (Welcome Center)\n6pm Worship\n6:20pm MC – Introductory Remark\n6:30pm Main Session 1:   “Story of Reality” – Greg Koukl\n7:15pm Main Session 2:   “The Great Disconnect” – Pat Zukeran\n8:00pm Main Session 3:  “Tactics Part 2” – Greg Koukl\n8:45pm Q&A Session\n9:15pm Closing \nSaturday   (9AM – 330PM)\n8:15-9am Coffee\n9:00am Worship\n9:20am Opening Remarks\n9:30am Main Session 4:  Greg Koukl (Truth is not Ice Cream) \n10:30-11:30 Breakout Session 1 \n\nCraig Nakatsuka – Kingdom Bioethics As Applied to Physician-Assisted Suicide\nDave Willweber – Using Jesus’ Tactics for Influencing Public Schools\nPat Zukeran – The Transgender Debate\nRon Kam – Evangelism and Discipleship in the Workplace \n\n11:30 – 12:15 Lunch \n12:30 – 1:30 Breakout Session 2 \n\nCraig Nakatsuka – Kingdom Bioethics As Applied to Physician-Assisted Suicide\nDave Willweber – Using Jesus’ Tactics for Influencing Public Schools\nPat Zukeran – Tough Questions about the After Life\nGreg Koukl – Faith and Science\n\n2:00-2:50pm Main Session 5:  Greg Koukl (Intolerance of the New Tolerance)\n3:00-3:25pm Q&A session\n3:30pm Closing Remarks
URL:https://evidenceandanswers.org/event/2018-evidence-and-answers-conference/
LOCATION:Kalihi Union Church\, 2214 North King St.\, Honolulu\, 96819\, United States
CATEGORIES:Conference
END:VEVENT
BEGIN:VEVENT
DTSTART;VALUE=DATE:20180705
DTEND;VALUE=DATE:20180707
DTSTAMP:20260424T094153
CREATED:20170621T031302Z
LAST-MODIFIED:20180613T075841Z
UID:6122-1530748800-1530921599@evidenceandanswers.org
SUMMARY:JEMS Mt. Hermon Conference
DESCRIPTION:Contact Venue for more information.
URL:https://evidenceandanswers.org/event/jems-mt-hermon-conference-2/
LOCATION:Mt. Hermon Conference\, 37 Conference Dr\, Mt Hermon\, CA\, 95041\, United States
CATEGORIES:Conference
END:VEVENT
BEGIN:VEVENT
DTSTART;TZID=Asia/Manila:20170904T130000
DTEND;TZID=Asia/Manila:20170904T160000
DTSTAMP:20260424T094153
CREATED:20170821T070750Z
LAST-MODIFIED:20170821T074214Z
UID:6333-1504530000-1504540800@evidenceandanswers.org
SUMMARY:Apologetics Conference - Manila Baptist Church\, Padre Faura
DESCRIPTION:Manila Baptist Church\, Padre Faura\n1301 Leon Guinto Sr.  St.\, cor. Padre Faura\, Ermita\, Manila\n1-4 PM\nCost 100 Php.\nContact – acaiphilippines@gmail.com or call 0917-325-2874
URL:https://evidenceandanswers.org/event/manila-baptist-church-padre-faura/
LOCATION:Manila Baptist Church\, Manila\, Philippines
CATEGORIES:Conference,Guest Speaking Engagement
END:VEVENT
BEGIN:VEVENT
DTSTART;TZID=Pacific/Honolulu:20170224T183000
DTEND;TZID=Pacific/Honolulu:20170225T190000
DTSTAMP:20260424T094153
CREATED:20160721T093735Z
LAST-MODIFIED:20161219T213124Z
UID:5216-1487961000-1488049200@evidenceandanswers.org
SUMMARY:Evidence and Answers Conference
DESCRIPTION:
URL:https://evidenceandanswers.org/event/evidence-and-answers-conference/
LOCATION:Kalihi Union Church\, 2214 North King St.\, Honolulu\, 96819\, United States
CATEGORIES:Conference
END:VEVENT
BEGIN:VEVENT
DTSTART;TZID=Pacific/Honolulu:20160222T080000
DTEND;TZID=Pacific/Honolulu:20160222T170000
DTSTAMP:20260424T094153
CREATED:20160213T172841Z
LAST-MODIFIED:20160213T172841Z
UID:4788-1456128000-1456160400@evidenceandanswers.org
SUMMARY:Kanakuk Bible Institute
DESCRIPTION:Please contact Venue for more information
URL:https://evidenceandanswers.org/event/kanakuk-bible-institute-2/
LOCATION:Kanakuk Bible Institute\, 833 Lakeshore Drive\, Branson\, 65616\, United States
CATEGORIES:Conference
END:VEVENT
END:VCALENDAR