BEGIN:VCALENDAR
VERSION:2.0
PRODID:-//Evidence and Answers - ECPv6.15.20//NONSGML v1.0//EN
CALSCALE:GREGORIAN
METHOD:PUBLISH
X-ORIGINAL-URL:https://evidenceandanswers.org
X-WR-CALDESC:Events for Evidence and Answers
REFRESH-INTERVAL;VALUE=DURATION:PT1H
X-Robots-Tag:noindex
X-PUBLISHED-TTL:PT1H
BEGIN:VTIMEZONE
TZID:Pacific/Honolulu
BEGIN:STANDARD
TZOFFSETFROM:-1000
TZOFFSETTO:-1000
TZNAME:HST
DTSTART:20150101T000000
END:STANDARD
END:VTIMEZONE
BEGIN:VTIMEZONE
TZID:Asia/Manila
BEGIN:STANDARD
TZOFFSETFROM:+0800
TZOFFSETTO:+0800
TZNAME:PST
DTSTART:20160101T000000
END:STANDARD
END:VTIMEZONE
BEGIN:VEVENT
DTSTART;TZID=Pacific/Honolulu:20181025T090000
DTEND;TZID=Pacific/Honolulu:20181025T160000
DTSTAMP:20260424T151814
CREATED:20180613T082937Z
LAST-MODIFIED:20180614T030718Z
UID:7307-1540458000-1540483200@evidenceandanswers.org
SUMMARY:Pac Rim College - Apologetics Class
DESCRIPTION:5 day Intensive course on Apologetics.  Call Pacific Rim University for more information or to register.  (808) 518-4791
URL:https://evidenceandanswers.org/event/pac-rim-college-2018-10-25/
LOCATION:Pacific Rim University\, 2223 Ho'one'e Place\, Honolulu\, HI\, 96819
CATEGORIES:Class
END:VEVENT
BEGIN:VEVENT
DTSTART;TZID=Pacific/Honolulu:20181024T130000
DTEND;TZID=Pacific/Honolulu:20181024T160000
DTSTAMP:20260424T151814
CREATED:20180613T021041Z
LAST-MODIFIED:20180614T031655Z
UID:7312-1540386000-1540396800@evidenceandanswers.org
SUMMARY:Pacific Rim University - Theology 101
DESCRIPTION:Contact Pac Rim University for more information or to register.
URL:https://evidenceandanswers.org/event/guest-speaker-pacific-rim-college-2018-10-24/
LOCATION:HI
CATEGORIES:Class
END:VEVENT
BEGIN:VEVENT
DTSTART;TZID=Pacific/Honolulu:20181024T090000
DTEND;TZID=Pacific/Honolulu:20181024T160000
DTSTAMP:20260424T151814
CREATED:20180613T082937Z
LAST-MODIFIED:20180614T030717Z
UID:7306-1540371600-1540396800@evidenceandanswers.org
SUMMARY:Pac Rim College - Apologetics Class
DESCRIPTION:5 day Intensive course on Apologetics.  Call Pacific Rim University for more information or to register.  (808) 518-4791
URL:https://evidenceandanswers.org/event/pac-rim-college-2018-10-24/
LOCATION:Pacific Rim University\, 2223 Ho'one'e Place\, Honolulu\, HI\, 96819
CATEGORIES:Class
END:VEVENT
BEGIN:VEVENT
DTSTART;TZID=Pacific/Honolulu:20181023T090000
DTEND;TZID=Pacific/Honolulu:20181023T160000
DTSTAMP:20260424T151814
CREATED:20180613T082937Z
LAST-MODIFIED:20180614T030717Z
UID:7305-1540285200-1540310400@evidenceandanswers.org
SUMMARY:Pac Rim College - Apologetics Class
DESCRIPTION:5 day Intensive course on Apologetics.  Call Pacific Rim University for more information or to register.  (808) 518-4791
URL:https://evidenceandanswers.org/event/pac-rim-college-2018-10-23/
LOCATION:Pacific Rim University\, 2223 Ho'one'e Place\, Honolulu\, HI\, 96819
CATEGORIES:Class
END:VEVENT
BEGIN:VEVENT
DTSTART;TZID=Pacific/Honolulu:20181022T090000
DTEND;TZID=Pacific/Honolulu:20181022T160000
DTSTAMP:20260424T151814
CREATED:20180613T082937Z
LAST-MODIFIED:20180614T030717Z
UID:7302-1540198800-1540224000@evidenceandanswers.org
SUMMARY:Pac Rim College - Apologetics Class
DESCRIPTION:5 day Intensive course on Apologetics.  Call Pacific Rim University for more information or to register.  (808) 518-4791
URL:https://evidenceandanswers.org/event/pac-rim-college/
LOCATION:Pacific Rim University\, 2223 Ho'one'e Place\, Honolulu\, HI\, 96819
CATEGORIES:Class
END:VEVENT
BEGIN:VEVENT
DTSTART;TZID=Pacific/Honolulu:20181018T190000
DTEND;TZID=Pacific/Honolulu:20181018T210000
DTSTAMP:20260424T151814
CREATED:20180509T081045Z
LAST-MODIFIED:20180509T081045Z
UID:7229-1539889200-1539896400@evidenceandanswers.org
SUMMARY:Sign of the Times (WOCC)
DESCRIPTION:Jesus stated\, “Even so\, when you see all these things\, you know that it is near\, right at the door.” What are the signs of His return? How do current events fit into God’s plan for the ages? In this fascinating series\, Pat explains how current events set the stage for the fulfillment of Bible prophecy.  Learn how the hand of God is at work bringing His plans for the ages to completion.
URL:https://evidenceandanswers.org/event/sign-of-the-times-wocc-2018-10-18/
LOCATION:West Oahu Christian Church\, 94-420 Farrington Hwy.\, Waipahu\, 96797\, United States
CATEGORIES:Class
END:VEVENT
BEGIN:VEVENT
DTSTART;TZID=Pacific/Honolulu:20181017T130000
DTEND;TZID=Pacific/Honolulu:20181017T160000
DTSTAMP:20260424T151814
CREATED:20180613T021041Z
LAST-MODIFIED:20180614T031655Z
UID:7311-1539781200-1539792000@evidenceandanswers.org
SUMMARY:Pacific Rim University - Theology 101
DESCRIPTION:Contact Pac Rim University for more information or to register.
URL:https://evidenceandanswers.org/event/guest-speaker-pacific-rim-college-2018-10-17/
LOCATION:HI
CATEGORIES:Class
END:VEVENT
BEGIN:VEVENT
DTSTART;TZID=Pacific/Honolulu:20181011T190000
DTEND;TZID=Pacific/Honolulu:20181011T210000
DTSTAMP:20260424T151814
CREATED:20180509T081045Z
LAST-MODIFIED:20180509T081045Z
UID:7228-1539284400-1539291600@evidenceandanswers.org
SUMMARY:Sign of the Times (WOCC)
DESCRIPTION:Jesus stated\, “Even so\, when you see all these things\, you know that it is near\, right at the door.” What are the signs of His return? How do current events fit into God’s plan for the ages? In this fascinating series\, Pat explains how current events set the stage for the fulfillment of Bible prophecy.  Learn how the hand of God is at work bringing His plans for the ages to completion.
URL:https://evidenceandanswers.org/event/sign-of-the-times-wocc-2018-10-11/
LOCATION:West Oahu Christian Church\, 94-420 Farrington Hwy.\, Waipahu\, 96797\, United States
CATEGORIES:Class
END:VEVENT
BEGIN:VEVENT
DTSTART;TZID=Pacific/Honolulu:20181010T130000
DTEND;TZID=Pacific/Honolulu:20181010T160000
DTSTAMP:20260424T151814
CREATED:20180613T021041Z
LAST-MODIFIED:20180614T031654Z
UID:7310-1539176400-1539187200@evidenceandanswers.org
SUMMARY:Pacific Rim University - Theology 101
DESCRIPTION:Contact Pac Rim University for more information or to register.
URL:https://evidenceandanswers.org/event/guest-speaker-pacific-rim-college-2018-10-10/
LOCATION:HI
CATEGORIES:Class
END:VEVENT
BEGIN:VEVENT
DTSTART;TZID=Pacific/Honolulu:20181004T190000
DTEND;TZID=Pacific/Honolulu:20181004T210000
DTSTAMP:20260424T151814
CREATED:20180509T081045Z
LAST-MODIFIED:20180509T081045Z
UID:7224-1538679600-1538686800@evidenceandanswers.org
SUMMARY:Sign of the Times (WOCC)
DESCRIPTION:Jesus stated\, “Even so\, when you see all these things\, you know that it is near\, right at the door.” What are the signs of His return? How do current events fit into God’s plan for the ages? In this fascinating series\, Pat explains how current events set the stage for the fulfillment of Bible prophecy.  Learn how the hand of God is at work bringing His plans for the ages to completion.
URL:https://evidenceandanswers.org/event/sign-of-the-times-wocc/
LOCATION:West Oahu Christian Church\, 94-420 Farrington Hwy.\, Waipahu\, 96797\, United States
CATEGORIES:Class
END:VEVENT
BEGIN:VEVENT
DTSTART;TZID=Pacific/Honolulu:20181003T130000
DTEND;TZID=Pacific/Honolulu:20181003T160000
DTSTAMP:20260424T151814
CREATED:20180613T021041Z
LAST-MODIFIED:20180614T031653Z
UID:7309-1538571600-1538582400@evidenceandanswers.org
SUMMARY:Pacific Rim University - Theology 101
DESCRIPTION:Contact Pac Rim University for more information or to register.
URL:https://evidenceandanswers.org/event/guest-speaker-pacific-rim-college-2018-10-03/
LOCATION:HI
CATEGORIES:Class
END:VEVENT
BEGIN:VEVENT
DTSTART;TZID=Pacific/Honolulu:20180926T130000
DTEND;TZID=Pacific/Honolulu:20180926T160000
DTSTAMP:20260424T151814
CREATED:20180613T021041Z
LAST-MODIFIED:20180614T031653Z
UID:7301-1537966800-1537977600@evidenceandanswers.org
SUMMARY:Pacific Rim University - Theology 101
DESCRIPTION:Contact Pac Rim University for more information or to register.
URL:https://evidenceandanswers.org/event/guest-speaker-pacific-rim-college-2018-09-26/
LOCATION:HI
CATEGORIES:Class
END:VEVENT
BEGIN:VEVENT
DTSTART;TZID=Pacific/Honolulu:20180919T130000
DTEND;TZID=Pacific/Honolulu:20180919T160000
DTSTAMP:20260424T151814
CREATED:20180613T021041Z
LAST-MODIFIED:20180614T031652Z
UID:7300-1537362000-1537372800@evidenceandanswers.org
SUMMARY:Pacific Rim University - Theology 101
DESCRIPTION:Contact Pac Rim University for more information or to register.
URL:https://evidenceandanswers.org/event/guest-speaker-pacific-rim-college-2018-09-19/
LOCATION:HI
CATEGORIES:Class
END:VEVENT
BEGIN:VEVENT
DTSTART;TZID=Pacific/Honolulu:20180912T130000
DTEND;TZID=Pacific/Honolulu:20180912T160000
DTSTAMP:20260424T151814
CREATED:20180613T021041Z
LAST-MODIFIED:20180614T031652Z
UID:7299-1536757200-1536768000@evidenceandanswers.org
SUMMARY:Pacific Rim University - Theology 101
DESCRIPTION:Contact Pac Rim University for more information or to register.
URL:https://evidenceandanswers.org/event/guest-speaker-pacific-rim-college-2018-09-12/
LOCATION:HI
CATEGORIES:Class
END:VEVENT
BEGIN:VEVENT
DTSTART;TZID=Pacific/Honolulu:20180905T130000
DTEND;TZID=Pacific/Honolulu:20180905T160000
DTSTAMP:20260424T151814
CREATED:20180613T021041Z
LAST-MODIFIED:20180614T031651Z
UID:7298-1536152400-1536163200@evidenceandanswers.org
SUMMARY:Pacific Rim University - Theology 101
DESCRIPTION:Contact Pac Rim University for more information or to register.
URL:https://evidenceandanswers.org/event/guest-speaker-pacific-rim-college-2018-09-05/
LOCATION:HI
CATEGORIES:Class
END:VEVENT
BEGIN:VEVENT
DTSTART;TZID=Pacific/Honolulu:20180829T130000
DTEND;TZID=Pacific/Honolulu:20180829T160000
DTSTAMP:20260424T151814
CREATED:20180613T021041Z
LAST-MODIFIED:20180614T031650Z
UID:7297-1535547600-1535558400@evidenceandanswers.org
SUMMARY:Pacific Rim University - Theology 101
DESCRIPTION:Contact Pac Rim University for more information or to register.
URL:https://evidenceandanswers.org/event/guest-speaker-pacific-rim-college-2018-08-29/
LOCATION:HI
CATEGORIES:Class
END:VEVENT
BEGIN:VEVENT
DTSTART;TZID=Pacific/Honolulu:20180822T130000
DTEND;TZID=Pacific/Honolulu:20180822T160000
DTSTAMP:20260424T151814
CREATED:20180613T021041Z
LAST-MODIFIED:20180614T031649Z
UID:4551-1534942800-1534953600@evidenceandanswers.org
SUMMARY:Pacific Rim University - Theology 101
DESCRIPTION:Contact Pac Rim University for more information or to register.
URL:https://evidenceandanswers.org/event/guest-speaker-pacific-rim-college/
LOCATION:HI
CATEGORIES:Class
END:VEVENT
BEGIN:VEVENT
DTSTART;VALUE=DATE:20180806
DTEND;VALUE=DATE:20180818
DTSTAMP:20260424T151814
CREATED:20171101T065231Z
LAST-MODIFIED:20180613T081541Z
UID:6462-1533513600-1534550399@evidenceandanswers.org
SUMMARY:Word of Life Bible Institute
DESCRIPTION:
URL:https://evidenceandanswers.org/event/word-of-life-philippines/
LOCATION:Word of Life Bible institute\, Laguna\, Philippines
CATEGORIES:Class
END:VEVENT
BEGIN:VEVENT
DTSTART;TZID=Pacific/Honolulu:20180417T190000
DTEND;TZID=Pacific/Honolulu:20180417T190000
DTSTAMP:20260424T151814
CREATED:20180201T062248Z
LAST-MODIFIED:20180213T003423Z
UID:6572-1523991600-1523991600@evidenceandanswers.org
SUMMARY:Evidence and Answers Institute - The Gospel of Luke
DESCRIPTION:Luke’s gospel is the most comprehensive and precise of the four Gospels\, presenting an accurate historical record of Jesus’ life. Luke’s Gospel is enjoyable for its richness of expressions\, eloquent literary style\, and unique accounts. Written from his unique medical perspective\, discover how Luke confirms the faith of Christians\, builds his case for Jesus as the Perfect Man and His mission to seek and save sinful men.
URL:https://evidenceandanswers.org/event/evidence-and-answers-institute-the-gospel-of-luke-2018-04-17/
LOCATION:Honolulu Christian Church\, 2207 Oahu Ave.\, Honolulu\, HI\, 96822\, United States
CATEGORIES:Class
END:VEVENT
BEGIN:VEVENT
DTSTART;TZID=Pacific/Honolulu:20180306T190000
DTEND;TZID=Pacific/Honolulu:20180306T190000
DTSTAMP:20260424T151814
CREATED:20180201T062248Z
LAST-MODIFIED:20180213T005634Z
UID:6564-1520362800-1520362800@evidenceandanswers.org
SUMMARY:Evidence and Answers Institute - The Gospel of Luke
DESCRIPTION:Luke’s gospel is the most comprehensive and precise of the four Gospels\, presenting an accurate historical record of Jesus’ life. Luke’s Gospel is enjoyable for its richness of expressions\, eloquent literary style\, and unique accounts. Written from his unique medical perspective\, discover how Luke confirms the faith of Christians\, builds his case for Jesus as the Perfect Man and His mission to seek and save sinful men.
URL:https://evidenceandanswers.org/event/evidence-and-answers-institute-the-gospel-of-luke/
LOCATION:Honolulu Christian Church\, 2207 Oahu Ave.\, Honolulu\, HI\, 96822\, United States
CATEGORIES:Class
END:VEVENT
BEGIN:VEVENT
DTSTART;TZID=Pacific/Honolulu:20170921T190000
DTEND;TZID=Pacific/Honolulu:20170921T210000
DTSTAMP:20260424T151814
CREATED:20170621T032010Z
LAST-MODIFIED:20170829T005649Z
UID:6130-1506020400-1506027600@evidenceandanswers.org
SUMMARY:West Oahu Christian Church - Evidence and Answers Institute Classes
DESCRIPTION:Classes held from September 21 – November 9\, 2017 (8 Thursdays) \nDr. Zukeran will be speaking on the following current issues: \n\nIs Truth Absolute or Relative?\nDiscerning Fake from Fact in the News Media\nThe New and Dangerous Definition of Tolerance\nReligious Pluralism\nAvatar\, Environmentalism and the Longing for Eden\nHow to Watch a Movie\n\nContact Donna Kranz at donnakranz@gmail.com to register.
URL:https://evidenceandanswers.org/event/west-oahu-christian-church-evidence-and-answers-institute-classes/
LOCATION:West Oahu Christian Church\, 94-420 Farrington Hwy.\, Waipahu\, 96797\, United States
CATEGORIES:Class
END:VEVENT
BEGIN:VEVENT
DTSTART;TZID=Asia/Manila:20170906T190000
DTEND;TZID=Asia/Manila:20170906T210000
DTSTAMP:20260424T151814
CREATED:20170821T071404Z
LAST-MODIFIED:20170821T071404Z
UID:6336-1504724400-1504731600@evidenceandanswers.org
SUMMARY:Grace Gospel Church North - Apologetics Seminar
DESCRIPTION:Sept 6\nGrace Gospel Church North\nApologetics Seminar\nQuezon City\, Manila (Open to all)\n7:00-9:00pm\n3rd floor Annex A Northridge Plaza #12 Congressional Ave. Brgy Bahay Toro Quezon City\nContact – Christelle Tomanhon at 9210321\, 9284650\, Text 09158322420\nNo Cost
URL:https://evidenceandanswers.org/event/grace-gospel-church-north-apologetics-seminar/
LOCATION:Grace Gospel Church North\, #12 Congressional Ave.\, Quezon City\, Philippines
CATEGORIES:Class,Guest Speaking Engagement
END:VEVENT
BEGIN:VEVENT
DTSTART;VALUE=DATE:20170822
DTEND;VALUE=DATE:20170902
DTSTAMP:20260424T151814
CREATED:20170821T065911Z
LAST-MODIFIED:20170821T065911Z
UID:6326-1503360000-1504310399@evidenceandanswers.org
SUMMARY:Word of Life Bible Institute
DESCRIPTION:For Bible Institute Students only
URL:https://evidenceandanswers.org/event/word-of-life-bible-institute/
LOCATION:Word of Life Bible institute\, Laguna\, Philippines
CATEGORIES:Class,Guest Speaking Engagement
END:VEVENT
BEGIN:VEVENT
DTSTART;TZID=Pacific/Honolulu:20170516T190000
DTEND;TZID=Pacific/Honolulu:20170516T210000
DTSTAMP:20260424T151814
CREATED:20170410T113249Z
LAST-MODIFIED:20170411T011140Z
UID:3768-1494961200-1494968400@evidenceandanswers.org
SUMMARY:"Kingdom of the Cults" Study - Honolulu Christian Church
DESCRIPTION:May 16 – June 20 “Kingdom of the cults” at HCC . $50 and $40 for HCC members
URL:https://evidenceandanswers.org/event/kingdom-cults-study/
LOCATION:Honolulu Christian Church\, 2207 Oahu Ave.\, Honolulu\, HI\, 96822\, United States
CATEGORIES:Class
END:VEVENT
BEGIN:VEVENT
DTSTART;TZID=Pacific/Honolulu:20160927T190000
DTEND;TZID=Pacific/Honolulu:20160927T210000
DTSTAMP:20260424T151814
CREATED:20160818T230550Z
LAST-MODIFIED:20160819T002321Z
UID:5275-1475002800-1475010000@evidenceandanswers.org
SUMMARY:Class: Tough Questions
DESCRIPTION:This series will address some of the most popular questions and issues people raise about problem passages in the Bible\, Salvation\, What Happens After Death\, and the End Times. The class is on Tuesday nights from Sept 27-Oct 18.\n \n\nTough Passages in the Old Testament\,\nTough Passages in the New Testament\nTough Questions about salvation\nTough Questions about the after life\nTough Questions about the end times.
URL:https://evidenceandanswers.org/event/class-tough-questions/
LOCATION:Honolulu Christian Church\, 2207 Oahu Ave.\, Honolulu\, HI\, 96822\, United States
CATEGORIES:Class
END:VEVENT
BEGIN:VEVENT
DTSTART;TZID=Pacific/Honolulu:20160926T190000
DTEND;TZID=Pacific/Honolulu:20160926T210000
DTSTAMP:20260424T151814
CREATED:20160823T070929Z
LAST-MODIFIED:20160907T223109Z
UID:5368-1474916400-1474923600@evidenceandanswers.org
SUMMARY:Class:  Eschatology (Kaneohe)
DESCRIPTION:What are the events that will occur at the end of the age?? What is the rapture? When will it occur? What is the 1000 year rule of Christ? Are there connections with modern events and Bible Prophecy?  This series will cover the events regarding the return of Christ and the end of the age. This class is on Monday evenings in Kaneohe from Sept. 26 – Oct. 17.
URL:https://evidenceandanswers.org/event/class-eschatology-kaneohe/
LOCATION:Kaneohe Congregational Church\, 45-114 Waikapoki Rd.\, Kaneohe\, 96744\, United States
CATEGORIES:Class
END:VEVENT
BEGIN:VEVENT
DTSTART;TZID=Pacific/Honolulu:20160921T190000
DTEND;TZID=Pacific/Honolulu:20160921T210000
DTSTAMP:20260424T151814
CREATED:20160819T044905Z
LAST-MODIFIED:20160823T070102Z
UID:5325-1474484400-1474491600@evidenceandanswers.org
SUMMARY:Class: Eschatology
DESCRIPTION:What are the events that will occur at the end of the age?? What is the rapture? When will it occur? What is the 1000 year rule of Christ? Are there connections with modern events and Bible Prophecy?  This series will cover the events regarding the return of Christ and the end of the age. This class is on Wednesday evenings in Mililani from Sept. 21 – Oct. 12.
URL:https://evidenceandanswers.org/event/class-eschatology/
LOCATION:Mililani Community Church\, 95-1150 Kaapeha Street\, Mililani\, HI\, 96789\, United States
CATEGORIES:Class
END:VEVENT
BEGIN:VEVENT
DTSTART;TZID=Pacific/Honolulu:20160426T190000
DTEND;TZID=Pacific/Honolulu:20160426T210000
DTSTAMP:20260424T151814
CREATED:20160323T205208Z
LAST-MODIFIED:20160325T205305Z
UID:4908-1461697200-1461704400@evidenceandanswers.org
SUMMARY:Basic Apologetics
DESCRIPTION:Honolulu Christian Church\, Hon. HI\n\nBasic Apologetics\n\nApologetics: The Defense of the Faith \n             How do you know Christianity is true?  How is it uniquely confirmed to be true and how does it compare with other religions that also claim to be true?  In our post-Christian culture today\, Christians must know not only what they believe but why.  This course will cover the basic evidences for the Christian faith including: The evidence for God\, historical reliability of the Bible\, the miraculous life of Christ\, the resurrection\, the problem of evil\, and more.  This course will strengthen your faith and provide you reasons and evidence you can present to fellow believers who are doubting and skeptics who are questioning the truth of Christianity. \nTextbook – Unless I See… by Pat Zukeran \n\n\nApril 26 – June 14 (Tues evening 7-9 PM)\nTo Register click here or call 483-0586\nEventbrite link:  http://www.eventbrite.com/o/evidence-and-answers-8329743887
URL:https://evidenceandanswers.org/event/basic-apologetics/
LOCATION:Honolulu Christian Church\, 2207 Oahu Ave.\, Honolulu\, HI\, 96822\, United States
CATEGORIES:Class
END:VEVENT
BEGIN:VEVENT
DTSTART;TZID=Pacific/Honolulu:20160425T190000
DTEND;TZID=Pacific/Honolulu:20160425T210000
DTSTAMP:20260424T151814
CREATED:20160323T204848Z
LAST-MODIFIED:20160329T112928Z
UID:4899-1461610800-1461618000@evidenceandanswers.org
SUMMARY:Christian Ethics
DESCRIPTION:Kaneohe Congregational Church\, Kaneohe\, HI\n\nChristian Ethics\nHow do we determine right and wrong? Is it the majority rules? Is right and wrong determined by the culture?  Is it ever right for Christians to go to war?  Does the Bible say anything about genetic engineering? This course will discuss the basic ethical systems and wrestle with some of the most difficult ethical issues of our day such as homosexuality\, just war\, medical ethics\, environmentalism\, and more.  This class will provide answers to the toughest issues from a biblical perspective.\n\nApril 25- June 13 (Monday Evenings 7-9 PM)\nTo Register click here or call – 483-0586\nEventbrite link:  http://www.eventbrite.com/o/evidence-and-answers-8329743887
URL:https://evidenceandanswers.org/event/christian-ethics/
LOCATION:Kaneohe Congregational Church\, 45-114 Waikapoki Rd.\, Kaneohe\, 96744\, United States
CATEGORIES:Class
END:VEVENT
END:VCALENDAR