BEGIN:VCALENDAR
VERSION:2.0
PRODID:-//Evidence and Answers - ECPv6.15.20//NONSGML v1.0//EN
CALSCALE:GREGORIAN
METHOD:PUBLISH
X-ORIGINAL-URL:https://evidenceandanswers.org
X-WR-CALDESC:Events for Evidence and Answers
REFRESH-INTERVAL;VALUE=DURATION:PT1H
X-Robots-Tag:noindex
X-PUBLISHED-TTL:PT1H
BEGIN:VTIMEZONE
TZID:Pacific/Honolulu
BEGIN:STANDARD
TZOFFSETFROM:-1000
TZOFFSETTO:-1000
TZNAME:HST
DTSTART:20250101T000000
END:STANDARD
END:VTIMEZONE
BEGIN:VEVENT
DTSTART;TZID=Pacific/Honolulu:20260330T000000
DTEND;TZID=Pacific/Honolulu:20260330T000000
DTSTAMP:20260424T042734
CREATED:20251207T213412Z
LAST-MODIFIED:20251207T213412Z
UID:24359-1774828800-1774828800@evidenceandanswers.org
SUMMARY:Biblical Theology
DESCRIPTION:Monday Night Series
URL:https://evidenceandanswers.org/event/biblical-theology-46/
END:VEVENT
END:VCALENDAR