BEGIN:VCALENDAR
VERSION:2.0
PRODID:-//Evidence and Answers - ECPv6.15.20//NONSGML v1.0//EN
CALSCALE:GREGORIAN
METHOD:PUBLISH
X-ORIGINAL-URL:https://evidenceandanswers.org
X-WR-CALDESC:Events for Evidence and Answers
REFRESH-INTERVAL;VALUE=DURATION:PT1H
X-Robots-Tag:noindex
X-PUBLISHED-TTL:PT1H
BEGIN:VTIMEZONE
TZID:Pacific/Honolulu
BEGIN:STANDARD
TZOFFSETFROM:-1000
TZOFFSETTO:-1000
TZNAME:HST
DTSTART:20250101T000000
END:STANDARD
END:VTIMEZONE
BEGIN:VEVENT
DTSTART;TZID=Pacific/Honolulu:20260302T120000
DTEND;TZID=Pacific/Honolulu:20260309T115959
DTSTAMP:20260424T054721
CREATED:20260302T193618Z
LAST-MODIFIED:20260302T193618Z
UID:24464-1772452800-1773057599@evidenceandanswers.org
SUMMARY:Mililani Community Church
DESCRIPTION:
URL:https://evidenceandanswers.org/event/mililani-community-church-7/
LOCATION:Mililani Community Church\, 95-1150 Kaapeha Street\, Mililani\, HI\, 96789\, United States
END:VEVENT
BEGIN:VEVENT
DTSTART;TZID=Pacific/Honolulu:20260308T170000
DTEND;TZID=Pacific/Honolulu:20260308T200000
DTSTAMP:20260424T054721
CREATED:20260302T193718Z
LAST-MODIFIED:20260302T193718Z
UID:24466-1772989200-1773000000@evidenceandanswers.org
SUMMARY:Rodem Church
DESCRIPTION:
URL:https://evidenceandanswers.org/event/rodem-church/
LOCATION:Rodem Church\, Honolulu\, HI\, United States
END:VEVENT
BEGIN:VEVENT
DTSTART;TZID=Pacific/Honolulu:20260309T000000
DTEND;TZID=Pacific/Honolulu:20260309T000000
DTSTAMP:20260424T054721
CREATED:20251207T213358Z
LAST-MODIFIED:20251207T213358Z
UID:24356-1773014400-1773014400@evidenceandanswers.org
SUMMARY:Biblical Theology
DESCRIPTION:Monday Night Series
URL:https://evidenceandanswers.org/event/biblical-theology-43/
END:VEVENT
END:VCALENDAR